BEGIN:VCALENDAR
VERSION:2.0
PRODID:-//Ontario Association on Developmental Disabilities - ECPv5.16.3.1//NONSGML v1.0//EN
CALSCALE:GREGORIAN
METHOD:PUBLISH
X-WR-CALNAME:Ontario Association on Developmental Disabilities
X-ORIGINAL-URL:https://oadd.org
X-WR-CALDESC:Events for Ontario Association on Developmental Disabilities
BEGIN:VTIMEZONE
TZID:America/Toronto
BEGIN:DAYLIGHT
TZOFFSETFROM:-0500
TZOFFSETTO:-0400
TZNAME:EDT
DTSTART:20190310T070000
END:DAYLIGHT
BEGIN:STANDARD
TZOFFSETFROM:-0400
TZOFFSETTO:-0500
TZNAME:EST
DTSTART:20191103T060000
END:STANDARD
END:VTIMEZONE
BEGIN:VEVENT
DTSTART;TZID=America/Toronto:20190205T080000
DTEND;TZID=America/Toronto:20190206T170000
DTSTAMP:20260422T185630
CREATED:20180913T022855Z
LAST-MODIFIED:20180913T022855Z
UID:1530-1549353600-1549472400@oadd.org
SUMMARY:A Mindful Workplace - 2019 DS HR Strategy Forum
DESCRIPTION:A Mindful Workplace \nSpecial presentation by Howard Levitt\, LLP a well-known and widely quoted authority on employment law \nThe DS HR Strategy Forum will be of interest to: Human Resources Professionals\, Senior Management\, Communications Professionals\, Direct Support Professionals in the Developmental Services Sector\, Colleges \nCheck the website in December for registration information.
URL:https://oadd.org/event/a-mindful-workplace-2019-ds-hr-strategy-forum/
LOCATION:Toronto Holiday Inn International Airport\, 970 Dixon Road\, Toronto\, Ontario\, M9W 1J9\, Canada
ORGANIZER;CN="Ann-Marie%20Binetti":MAILTO:abineti@cltoronto.ca
END:VEVENT
END:VCALENDAR