BEGIN:VCALENDAR
VERSION:2.0
PRODID:-//Ontario Association on Developmental Disabilities - ECPv5.16.3.1//NONSGML v1.0//EN
CALSCALE:GREGORIAN
METHOD:PUBLISH
X-WR-CALNAME:Ontario Association on Developmental Disabilities
X-ORIGINAL-URL:https://oadd.org
X-WR-CALDESC:Events for Ontario Association on Developmental Disabilities
BEGIN:VTIMEZONE
TZID:America/Toronto
BEGIN:DAYLIGHT
TZOFFSETFROM:-0500
TZOFFSETTO:-0400
TZNAME:EDT
DTSTART:20180311T070000
END:DAYLIGHT
BEGIN:STANDARD
TZOFFSETFROM:-0400
TZOFFSETTO:-0500
TZNAME:EST
DTSTART:20181104T060000
END:STANDARD
END:VTIMEZONE
BEGIN:VEVENT
DTSTART;TZID=America/Toronto:20180206T080000
DTEND;TZID=America/Toronto:20180207T170000
DTSTAMP:20260425T194620
CREATED:20180102T220415Z
LAST-MODIFIED:20180102T220415Z
UID:1338-1517904000-1518022800@oadd.org
SUMMARY:DS HR Forum 2018
DESCRIPTION:“A Celebration of Success”….. We look forward to seeing you and celebrating the past 10 years of the great work of the DS HR Strategy! \nThis event is focused on sharing information and best practices on how the DS HR Strategy is impacting the provision of high quality support to adults with a developmental disability. \nOpening Keynote Speaker: Jennifer Moss “The Happiness Economy” \nClosing Keynote Speaker: John Draper “Inclusive Leadership” \n*Overview of Sessions are posted on the DS HR Strategy website:www.ontariodevelopmentalservices.ca \nOvernight accommodations are not included in your registration fee. You can book a room by using the online booking link or by calling the reservations department at 416-674-4343 and ask for the DS HR Strategy Forum group rate. The group code is DRS. \nFor more information\, contact Ann-Marie Binetti\, DS HR Strategy Project Manager\, at abinetti@cltoronto.ca or 416-561-3963. \n\nNote: If you are attending the Learning Exchange\, there is a separate registration
URL:https://oadd.org/event/ds-hr-forum-2018/
LOCATION:Toronto Holiday Inn International Airport\, 970 Dixon Road\, Toronto\, Ontario\, M9W 1J9\, Canada
ORGANIZER;CN="Ann-Marie%20Binetti":MAILTO:abineti@cltoronto.ca
END:VEVENT
END:VCALENDAR