BEGIN:VCALENDAR
VERSION:2.0
PRODID:-//Ontario Association on Developmental Disabilities - ECPv5.16.3.1//NONSGML v1.0//EN
CALSCALE:GREGORIAN
METHOD:PUBLISH
X-WR-CALNAME:Ontario Association on Developmental Disabilities
X-ORIGINAL-URL:https://oadd.org
X-WR-CALDESC:Events for Ontario Association on Developmental Disabilities
BEGIN:VTIMEZONE
TZID:America/Toronto
BEGIN:DAYLIGHT
TZOFFSETFROM:-0500
TZOFFSETTO:-0400
TZNAME:EDT
DTSTART:20180311T070000
END:DAYLIGHT
BEGIN:STANDARD
TZOFFSETFROM:-0400
TZOFFSETTO:-0500
TZNAME:EST
DTSTART:20181104T060000
END:STANDARD
END:VTIMEZONE
BEGIN:VEVENT
DTSTART;TZID=America/Toronto:20180410T080000
DTEND;TZID=America/Toronto:20180410T160000
DTSTAMP:20260425T205751
CREATED:20171117T221044Z
LAST-MODIFIED:20171117T221213Z
UID:1296-1523347200-1523376000@oadd.org
SUMMARY:GLS - OADD Conference
DESCRIPTION:Great Lakes Society Conference Day \nSpeakers: Dr. Charles Menendez and Sheila Burns \nMore information to come
URL:https://oadd.org/event/gls-oadd-conference/
LOCATION:Ambassador Hotel and Conference Centre\, 1550 Princess Street\, Kingston\, Ontario\, K7M 9E3\, Canada
CATEGORIES:OADD Conference
ORGANIZER;CN="Jennifer%20Shaw":MAILTO:oadd@oadd.org
END:VEVENT
END:VCALENDAR