BEGIN:VCALENDAR
VERSION:2.0
PRODID:-//Ontario Association on Developmental Disabilities - ECPv5.16.3.1//NONSGML v1.0//EN
CALSCALE:GREGORIAN
METHOD:PUBLISH
X-WR-CALNAME:Ontario Association on Developmental Disabilities
X-ORIGINAL-URL:https://oadd.org
X-WR-CALDESC:Events for Ontario Association on Developmental Disabilities
BEGIN:VTIMEZONE
TZID:America/Toronto
BEGIN:DAYLIGHT
TZOFFSETFROM:-0500
TZOFFSETTO:-0400
TZNAME:EDT
DTSTART:20190310T070000
END:DAYLIGHT
BEGIN:STANDARD
TZOFFSETFROM:-0400
TZOFFSETTO:-0500
TZNAME:EST
DTSTART:20191103T060000
END:STANDARD
END:VTIMEZONE
BEGIN:VEVENT
DTSTART;TZID=America/Toronto:20190116T083000
DTEND;TZID=America/Toronto:20190116T160000
DTSTAMP:20260422T152344
CREATED:20181124T214623Z
LAST-MODIFIED:20181124T214940Z
UID:1579-1547627400-1547654400@oadd.org
SUMMARY:Integrative Medicine and Psychiatry
DESCRIPTION:Does Improving Nutrition\, Exercise\, Sleep and Stress Management actually Improve Mental Health? \nA CPRI In-Person Workshop \nPresented by Dr. Linda Plowright\, CPRI \nEarly Bird/Group: $55\, Standard: $65\, Student: $25 \n 
URL:https://oadd.org/event/integrative-medicine-and-psychiatry/
LOCATION:Zarfas Hall\, CPRI\, 600 Sanatorium Road\, London\, Ontario\, Canada
END:VEVENT
END:VCALENDAR