BEGIN:VCALENDAR
VERSION:2.0
PRODID:-//Ontario Association on Developmental Disabilities - ECPv5.16.3.1//NONSGML v1.0//EN
CALSCALE:GREGORIAN
METHOD:PUBLISH
X-WR-CALNAME:Ontario Association on Developmental Disabilities
X-ORIGINAL-URL:https://oadd.org
X-WR-CALDESC:Events for Ontario Association on Developmental Disabilities
BEGIN:VTIMEZONE
TZID:America/Toronto
BEGIN:DAYLIGHT
TZOFFSETFROM:-0500
TZOFFSETTO:-0400
TZNAME:EDT
DTSTART:20180311T070000
END:DAYLIGHT
BEGIN:STANDARD
TZOFFSETFROM:-0400
TZOFFSETTO:-0500
TZNAME:EST
DTSTART:20181104T060000
END:STANDARD
END:VTIMEZONE
BEGIN:VEVENT
DTSTART;TZID=America/Toronto:20181031T080000
DTEND;TZID=America/Toronto:20181102T170000
DTSTAMP:20260422T115346
CREATED:20180628T004341Z
LAST-MODIFIED:20180628T004341Z
UID:1462-1540972800-1541178000@oadd.org
SUMMARY:NADD 35th Annual Conference & Exhibit Show
DESCRIPTION:Seattle Washington\, Save the Dates \nFor more information go to: www.thenadd.org
URL:https://oadd.org/event/nadd-35th-annual-conference-exhibit-show/
END:VEVENT
END:VCALENDAR