BEGIN:VCALENDAR
VERSION:2.0
PRODID:-//Ontario Association on Developmental Disabilities - ECPv5.16.3.1//NONSGML v1.0//EN
CALSCALE:GREGORIAN
METHOD:PUBLISH
X-WR-CALNAME:Ontario Association on Developmental Disabilities
X-ORIGINAL-URL:https://oadd.org
X-WR-CALDESC:Events for Ontario Association on Developmental Disabilities
BEGIN:VTIMEZONE
TZID:America/Toronto
BEGIN:DAYLIGHT
TZOFFSETFROM:-0500
TZOFFSETTO:-0400
TZNAME:EDT
DTSTART:20190310T070000
END:DAYLIGHT
BEGIN:STANDARD
TZOFFSETFROM:-0400
TZOFFSETTO:-0500
TZNAME:EST
DTSTART:20191103T060000
END:STANDARD
END:VTIMEZONE
BEGIN:VEVENT
DTSTART;TZID=America/Toronto:20190408T080000
DTEND;TZID=America/Toronto:20190411T170000
DTSTAMP:20260423T031246
CREATED:20180628T000847Z
LAST-MODIFIED:20180628T001933Z
UID:1452-1554710400-1555002000@oadd.org
SUMMARY:OADD 30th Annual Conference
DESCRIPTION:30th Annual OADD Conference at the Marriott on the Falls 6755 Fallsview Blvd\, Niagara Falls ON \nDetails to come
URL:https://oadd.org/event/oadd-30th-annual-conference/
LOCATION:Marriot by the Falls\, 6755 Fallsview Blvd\, Niagara Falls\, Ontario\, L2G 3W7\, Canada
ORGANIZER;CN="Jennifer%20Shaw":MAILTO:oadd@oadd.org
END:VEVENT
END:VCALENDAR