BEGIN:VCALENDAR
VERSION:2.0
PRODID:-//Ontario Association on Developmental Disabilities - ECPv5.16.3.1//NONSGML v1.0//EN
CALSCALE:GREGORIAN
METHOD:PUBLISH
X-WR-CALNAME:Ontario Association on Developmental Disabilities
X-ORIGINAL-URL:https://oadd.org
X-WR-CALDESC:Events for Ontario Association on Developmental Disabilities
BEGIN:VTIMEZONE
TZID:America/Toronto
BEGIN:DAYLIGHT
TZOFFSETFROM:-0500
TZOFFSETTO:-0400
TZNAME:EDT
DTSTART:20190310T070000
END:DAYLIGHT
BEGIN:STANDARD
TZOFFSETFROM:-0400
TZOFFSETTO:-0500
TZNAME:EST
DTSTART:20191103T060000
END:STANDARD
END:VTIMEZONE
BEGIN:VEVENT
DTSTART;TZID=America/Toronto:20190328T103000
DTEND;TZID=America/Toronto:20190328T120000
DTSTAMP:20260423T000127
CREATED:20181124T234128Z
LAST-MODIFIED:20181124T234128Z
UID:1600-1553769000-1553774400@oadd.org
SUMMARY:Principles and Practices of Art Therapy with Children and Youth
DESCRIPTION:A CPRI Online Webinar \nPresented by Jennifer Stan Art Therapist\, RP \nRegister on-line. There is no charge for Webinars; platform used is Adobe Connect.
URL:https://oadd.org/event/principles-and-practices-of-art-therapy-with-children-and-youth/
END:VEVENT
END:VCALENDAR