BEGIN:VCALENDAR
VERSION:2.0
PRODID:-//Ontario Association on Developmental Disabilities - ECPv5.16.3.1//NONSGML v1.0//EN
CALSCALE:GREGORIAN
METHOD:PUBLISH
X-WR-CALNAME:Ontario Association on Developmental Disabilities
X-ORIGINAL-URL:https://oadd.org
X-WR-CALDESC:Events for Ontario Association on Developmental Disabilities
BEGIN:VTIMEZONE
TZID:America/Toronto
BEGIN:DAYLIGHT
TZOFFSETFROM:-0500
TZOFFSETTO:-0400
TZNAME:EDT
DTSTART:20170312T070000
END:DAYLIGHT
BEGIN:STANDARD
TZOFFSETFROM:-0400
TZOFFSETTO:-0500
TZNAME:EST
DTSTART:20171105T060000
END:STANDARD
END:VTIMEZONE
BEGIN:VEVENT
DTSTART;TZID=America/Toronto:20171129T090000
DTEND;TZID=America/Toronto:20171129T163000
DTSTAMP:20260425T193459
CREATED:20171122T163057Z
LAST-MODIFIED:20171122T163428Z
UID:1306-1511946000-1511973000@oadd.org
SUMMARY:Toronto Developmental Services Alliance Housing Forum
DESCRIPTION:🏠 Exploring issues & obstacles for the developmental service sector \n🏠 Current work being done to address shortage of affordable & supportive housing \n🏠 Breakout sessions exploring potential solutions to current housing challenges \n🏠 Future planning on how to meet housing needs of persons with DD \nto download the flyer click here: TDSA Housing Forum Nov 29th
URL:https://oadd.org/event/toronto-developmental-services-alliance-housing-forum/
LOCATION:150 Railside Rd\, 150 Railside Road\, North York\, Ontario\, M3A 1A3\, Canada
CATEGORIES:Other Agency Event
END:VEVENT
END:VCALENDAR