BEGIN:VCALENDAR
VERSION:2.0
PRODID:-//Ontario Association on Developmental Disabilities - ECPv5.16.3.1//NONSGML v1.0//EN
CALSCALE:GREGORIAN
METHOD:PUBLISH
X-WR-CALNAME:Ontario Association on Developmental Disabilities
X-ORIGINAL-URL:https://oadd.org
X-WR-CALDESC:Events for Ontario Association on Developmental Disabilities
BEGIN:VTIMEZONE
TZID:America/Toronto
BEGIN:DAYLIGHT
TZOFFSETFROM:-0500
TZOFFSETTO:-0400
TZNAME:EDT
DTSTART:20170312T070000
END:DAYLIGHT
BEGIN:STANDARD
TZOFFSETFROM:-0400
TZOFFSETTO:-0500
TZNAME:EST
DTSTART:20171105T060000
END:STANDARD
END:VTIMEZONE
BEGIN:VEVENT
DTSTART;TZID=America/Toronto:20171211T083000
DTEND;TZID=America/Toronto:20171211T153000
DTSTAMP:20260425T181557
CREATED:20171117T215347Z
LAST-MODIFIED:20171129T184456Z
UID:1275-1512981000-1513006200@oadd.org
SUMMARY:Trauma\, the Past and Approaches to Healing Workshop
DESCRIPTION:Trauma\, the Past and Approaches to Healing: Disability informed approaches to trauma \nAn OADD-Vita Community Services and Mens Sana Workshop \nDecember 11th\, 2017 8:30 – 3:30 \nPresenters: Amanda Gee\, Heather Hermans\, David Hingsburger \nPeople with disabilities have lived lives filled with trauma. From abuse\, to institutionalization\, to rejection and lack of welcome in community settings people with disabilities have experienced pain and hurt. This session will look at strategies for trauma informed practice for people with disabilities. The presenters will explore the issues of trauma and the accumulation of past hurts and suggest strategies and ideas for both everyday and clinical support. This session will be looking at trauma and approaches as it affect people who experience a wide variety of intellectual disabilities including those with significant disabilities who are not often thought to be able to benefit from healing approaches. \nCost is $90 + HST for OADD members; $105.00 + HST for non-members \nDownloadable registration form: Registration form \nMore information contact OADD at mailto:oadd@oadd.org
URL:https://oadd.org/event/trauma-the-past-and-approaches-to-healing-workshop/
LOCATION:University of Toronto Conference Centre\, 89 Chestnut Street\, Toronto\, Ontario\, M5G 1R1\, Canada
CATEGORIES:OADD Workshop
END:VEVENT
END:VCALENDAR